BEGIN:VCALENDAR
VERSION:2.0
PRODID:-//Contratero//ES
CALSCALE:GREGORIAN
METHOD:PUBLISH
BEGIN:VEVENT
UID:A.M. 13/2018 VDI GRAN CANARIA 2022@contratero.es
DTSTAMP:20260423T224513Z
DTSTART:20220727T235959
DTEND:20220728T005959
SUMMARY:Cierre: Suministro para la ampliación de la infraestructur
DESCRIPTION:Suministro para la ampliación de la infraestructura de servidores para vitualización del puesto de trabajo (VDI) corporativa del Gobierno de Canarias en la isla de Gran Canaria\, cofinanciado por el Fo...\\n\\nOrganismo: Dirección General de Telecomunicaciones y Nuevas Tecnologías\\n\\nVer en Contratero: https://contratero.es/contracts/A.M. 13/2018 VDI GRAN CANARIA 2022
URL:https://contratero.es/contracts/A.M. 13/2018 VDI GRAN CANARIA 2022
STATUS:CONFIRMED
BEGIN:VALARM
TRIGGER:-P1D
ACTION:DISPLAY
DESCRIPTION:Recordatorio: Suministro para la ampliación 
END:VALARM
END:VEVENT
END:VCALENDAR